BEGIN:VCALENDAR
VERSION:2.0
PRODID:-//downtownswing.ch//Course Calendar//EN
CALSCALE:GREGORIAN
BEGIN:VEVENT
DTSTAMP:20260419T120811Z
UID:lesson-14710@downtownswing.ch
DTSTART;TZID=Europe/Zurich:20260509T110000
DTEND;TZID=Europe/Zurich:20260509T120000
DESCRIPTION:Mit Valérie und Stefan\n\nEntdecke den stilvollen Swing-Paarta
 nz aus den 1930er Jahren! Leichtigkeit\, fliessende Bewegungen und verspie
 lte Fussvariationen prägen das typische Balboa-Feeling. Du brauchst keine
  Vorkenntnisse und keine feste Tanzpartnerin bzw. keinen festen Tanzpartne
 r - Freude an Musik reicht.Die genauen Details findest du auf der Zürich 
 Tanzt Webseite.(das Programm wird am 30. März publiziert)\n\nhttps://www.
 app.downtownswing.ch/de/courses/balboa-crash-kurs-zurich-tanzt-26050911002
 3
LOCATION:Salsarica Lounge\, Pfingstweidstrasse 101\, 8005 Zürich
STATUS:CONFIRMED
SUMMARY:Balboa Crash Kurs @ ZÜRICH TANZT
URL;VALUE=URI:https://www.app.downtownswing.ch/de/courses/balboa-crash-kurs
 -zurich-tanzt-260509110023
END:VEVENT
END:VCALENDAR
